Package: protGear Version: 1.10.0 Command: chmod a+r protGear -R && F:\biocbuild\bbs-3.20-bioc\R\bin\R.exe CMD build --keep-empty-dirs --no-resave-data protGear StartedAt: 2025-01-30 21:07:16 -0500 (Thu, 30 Jan 2025) EndedAt: 2025-01-30 21:08:47 -0500 (Thu, 30 Jan 2025) EllapsedTime: 90.4 seconds RetCode: 0 Status: OK PackageFile: protGear_1.10.0.tar.gz PackageFileSize: 2.929 MiB