Package: psichomics Version: 1.32.0 Command: rm -rf psichomics.buildbin-libdir && mkdir psichomics.buildbin-libdir && /Users/biocbuild/BBS/utils/build-universal.sh psichomics_1.32.0.tar.gz /Library/Frameworks/R.framework/Resources/bin/R psichomics.buildbin-libdir StartedAt: 2025-02-05 17:13:16 -0500 (Wed, 05 Feb 2025) EndedAt: 2025-02-05 17:14:50 -0500 (Wed, 05 Feb 2025) EllapsedTime: 94.7 seconds RetCode: 0 Status: OK PackageFile: psichomics_1.32.0.tgz PackageFileSize: 4.679 MiB