Package: psichomics Version: 1.32.0 Command: /Library/Frameworks/R.framework/Resources/bin/R CMD build --keep-empty-dirs --no-resave-data psichomics StartedAt: 2025-02-04 05:52:15 -0500 (Tue, 04 Feb 2025) EndedAt: 2025-02-04 05:54:37 -0500 (Tue, 04 Feb 2025) EllapsedTime: 141.7 seconds RetCode: 0 Status: OK PackageFile: psichomics_1.32.0.tar.gz PackageFileSize: 6.124 MiB