Package: psichomics Version: 1.32.0 Command: /Library/Frameworks/R.framework/Resources/bin/R CMD INSTALL psichomics StartedAt: 2025-02-03 17:06:42 -0500 (Mon, 03 Feb 2025) EndedAt: 2025-02-03 17:08:08 -0500 (Mon, 03 Feb 2025) EllapsedTime: 85.9 seconds RetCode: 0 Status: OK