Package: psichomics Version: 1.32.0 Command: /home/biocbuild/bbs-3.20-bioc/R/bin/R CMD build --keep-empty-dirs --no-resave-data --md5 psichomics StartedAt: 2025-02-03 18:48:36 -0500 (Mon, 03 Feb 2025) EndedAt: 2025-02-03 18:50:26 -0500 (Mon, 03 Feb 2025) EllapsedTime: 110.1 seconds RetCode: 0 Status: OK PackageFile: psichomics_1.32.0.tar.gz PackageFileSize: 6.135 MiB