Package: psichomics
Version: 1.32.0
Command: /home/biocbuild/bbs-3.20-bioc/R/bin/R CMD check --install=check:psichomics.install-out.txt --library=/home/biocbuild/bbs-3.20-bioc/R/site-library --timings psichomics_1.32.0.tar.gz
StartedAt: 2025-02-18 01:06:54 -0500 (Tue, 18 Feb 2025)
EndedAt: 2025-02-18 01:15:33 -0500 (Tue, 18 Feb 2025)
EllapsedTime: 519.5 seconds
RetCode: 0
Status: OK
CheckDir: psichomics.Rcheck
Warnings: 0