Package: psygenet2r
Version: 1.37.0
Command: chmod a+r psygenet2r -R && F:\biocbuild\bbs-3.20-bioc\R\bin\R.exe CMD build --keep-empty-dirs --no-resave-data psygenet2r
StartedAt: 2024-06-09 21:23:55 -0400 (Sun, 09 Jun 2024)
EndedAt: 2024-06-09 21:30:45 -0400 (Sun, 09 Jun 2024)
EllapsedTime: 409.4 seconds
RetCode: 0
Status: OK
PackageFile: psygenet2r_1.37.0.tar.gz
PackageFileSize: 1.498 <A href="http://en.wikipedia.org/wiki/MiB" target="_blank">MiB</A>