Package: puma Version: 3.48.0 Command: /Library/Frameworks/R.framework/Resources/bin/R CMD build --keep-empty-dirs --no-resave-data puma StartedAt: 2025-02-04 05:54:37 -0500 (Tue, 04 Feb 2025) EndedAt: 2025-02-04 05:56:25 -0500 (Tue, 04 Feb 2025) EllapsedTime: 108.5 seconds RetCode: 0 Status: OK PackageFile: puma_3.48.0.tar.gz PackageFileSize: 3.405 MiB