Package: puma Version: 3.48.0 Command: /Library/Frameworks/R.framework/Resources/bin/R CMD INSTALL puma StartedAt: 2025-02-03 15:41:53 -0500 (Mon, 03 Feb 2025) EndedAt: 2025-02-03 15:42:16 -0500 (Mon, 03 Feb 2025) EllapsedTime: 23.0 seconds RetCode: 0 Status: OK