Package: puma Version: 3.48.0 Command: chmod a+r puma -R && F:\biocbuild\bbs-3.20-bioc\R\bin\R.exe CMD build --keep-empty-dirs --no-resave-data puma StartedAt: 2025-02-03 21:24:06 -0500 (Mon, 03 Feb 2025) EndedAt: 2025-02-03 21:26:30 -0500 (Mon, 03 Feb 2025) EllapsedTime: 143.6 seconds RetCode: 0 Status: OK PackageFile: puma_3.48.0.tar.gz PackageFileSize: 3.252 MiB