Package: pvca Version: 1.46.0 Command: /Library/Frameworks/R.framework/Resources/bin/R CMD INSTALL pvca StartedAt: 2025-02-03 15:37:36 -0500 (Mon, 03 Feb 2025) EndedAt: 2025-02-03 15:37:41 -0500 (Mon, 03 Feb 2025) EllapsedTime: 5.4 seconds RetCode: 0 Status: OK