Package: pvca Version: 1.46.0 Command: /home/biocbuild/bbs-3.20-bioc/R/bin/R CMD build --keep-empty-dirs --no-resave-data --md5 pvca StartedAt: 2025-02-03 18:49:31 -0500 (Mon, 03 Feb 2025) EndedAt: 2025-02-03 18:49:49 -0500 (Mon, 03 Feb 2025) EllapsedTime: 18.0 seconds RetCode: 0 Status: OK PackageFile: pvca_1.46.0.tar.gz PackageFileSize: 218.5 KiB