Package: pvca Version: 1.46.0 Command: /home/biocbuild/bbs-3.20-bioc/R/bin/R CMD check --install=check:pvca.install-out.txt --library=/home/biocbuild/bbs-3.20-bioc/R/site-library --timings pvca_1.46.0.tar.gz StartedAt: 2025-02-04 01:26:33 -0500 (Tue, 04 Feb 2025) EndedAt: 2025-02-04 01:27:43 -0500 (Tue, 04 Feb 2025) EllapsedTime: 70.0 seconds RetCode: 0 Status: OK CheckDir: pvca.Rcheck Warnings: 0