Package: pvca Version: 1.46.0 Command: /home/biocbuild/R/R/bin/R CMD check --install=check:pvca.install-out.txt --library=/home/biocbuild/R/R/site-library --no-vignettes --timings pvca_1.46.0.tar.gz StartedAt: 2025-02-04 10:05:39 -0000 (Tue, 04 Feb 2025) EndedAt: 2025-02-04 10:07:00 -0000 (Tue, 04 Feb 2025) EllapsedTime: 81.1 seconds RetCode: 0 Status: OK CheckDir: pvca.Rcheck Warnings: 0