Package: qPLEXanalyzer Version: 1.24.0 Command: /Library/Frameworks/R.framework/Resources/bin/R CMD build --keep-empty-dirs --no-resave-data qPLEXanalyzer StartedAt: 2025-02-10 21:31:11 -0500 (Mon, 10 Feb 2025) EndedAt: 2025-02-10 21:33:31 -0500 (Mon, 10 Feb 2025) EllapsedTime: 139.8 seconds RetCode: 0 Status: OK PackageFile: qPLEXanalyzer_1.24.0.tar.gz PackageFileSize: 3.614 MiB