Package: qPLEXanalyzer Version: 1.24.0 Command: /Library/Frameworks/R.framework/Resources/bin/R CMD INSTALL qPLEXanalyzer StartedAt: 2025-02-03 16:11:31 -0500 (Mon, 03 Feb 2025) EndedAt: 2025-02-03 16:12:51 -0500 (Mon, 03 Feb 2025) EllapsedTime: 79.7 seconds RetCode: 0 Status: OK