Package: qPLEXanalyzer Version: 1.24.0 Command: chmod a+r qPLEXanalyzer -R && F:\biocbuild\bbs-3.20-bioc\R\bin\R.exe CMD build --keep-empty-dirs --no-resave-data qPLEXanalyzer StartedAt: 2025-02-03 21:26:08 -0500 (Mon, 03 Feb 2025) EndedAt: 2025-02-03 21:30:31 -0500 (Mon, 03 Feb 2025) EllapsedTime: 263.8 seconds RetCode: 0 Status: OK PackageFile: qPLEXanalyzer_1.24.0.tar.gz PackageFileSize: 3.028 MiB