Package: qcmetrics Version: 1.44.0 Command: rm -rf qcmetrics.buildbin-libdir && mkdir qcmetrics.buildbin-libdir && /Users/biocbuild/BBS/utils/build-universal.sh qcmetrics_1.44.0.tar.gz /Library/Frameworks/R.framework/Resources/bin/R qcmetrics.buildbin-libdir StartedAt: 2025-02-12 16:28:04 -0500 (Wed, 12 Feb 2025) EndedAt: 2025-02-12 16:28:15 -0500 (Wed, 12 Feb 2025) EllapsedTime: 11.2 seconds RetCode: 0 Status: OK PackageFile: qcmetrics_1.44.0.tgz PackageFileSize: 4.071 MiB