Package: qcmetrics Version: 1.44.0 Command: /Library/Frameworks/R.framework/Resources/bin/R CMD INSTALL qcmetrics StartedAt: 2025-02-03 15:51:18 -0500 (Mon, 03 Feb 2025) EndedAt: 2025-02-03 15:51:36 -0500 (Mon, 03 Feb 2025) EllapsedTime: 18.0 seconds RetCode: 0 Status: OK