Package: qcmetrics Version: 1.44.0 Command: /home/biocbuild/bbs-3.20-bioc/R/bin/R CMD build --keep-empty-dirs --no-resave-data --md5 qcmetrics StartedAt: 2025-02-03 18:49:49 -0500 (Mon, 03 Feb 2025) EndedAt: 2025-02-03 18:50:17 -0500 (Mon, 03 Feb 2025) EllapsedTime: 28.0 seconds RetCode: 0 Status: OK PackageFile: qcmetrics_1.44.0.tar.gz PackageFileSize: 4.22 MiB