Package: qcmetrics Version: 1.44.0 Command: /home/biocbuild/bbs-3.20-bioc/R/bin/R CMD INSTALL qcmetrics StartedAt: 2025-02-03 15:27:13 -0500 (Mon, 03 Feb 2025) EndedAt: 2025-02-03 15:27:20 -0500 (Mon, 03 Feb 2025) EllapsedTime: 6.7 seconds RetCode: 0 Status: OK