Package: qcmetrics Version: 1.44.0 Command: rm -rf qcmetrics.buildbin-libdir && mkdir qcmetrics.buildbin-libdir && F:\biocbuild\bbs-3.20-bioc\R\bin\R.exe CMD INSTALL --build --library=qcmetrics.buildbin-libdir qcmetrics_1.44.0.tar.gz StartedAt: 2025-02-04 09:14:14 -0500 (Tue, 04 Feb 2025) EndedAt: 2025-02-04 09:14:54 -0500 (Tue, 04 Feb 2025) EllapsedTime: 39.9 seconds RetCode: 0 Status: OK PackageFile: qcmetrics_1.44.0.zip PackageFileSize: 4.072 MiB