Package: qcmetrics Version: 1.44.0 Command: F:\biocbuild\bbs-3.20-bioc\R\bin\R.exe CMD check --no-multiarch --install=check:qcmetrics.install-out.txt --library=F:\biocbuild\bbs-3.20-bioc\R\library --no-vignettes --timings qcmetrics_1.44.0.tar.gz StartedAt: 2025-02-04 05:09:31 -0500 (Tue, 04 Feb 2025) EndedAt: 2025-02-04 05:11:07 -0500 (Tue, 04 Feb 2025) EllapsedTime: 96.5 seconds RetCode: 0 Status: OK CheckDir: qcmetrics.Rcheck Warnings: 0