Package: qcmetrics Version: 1.44.0 Command: /home/biocbuild/R/R/bin/R CMD build --keep-empty-dirs --no-resave-data qcmetrics StartedAt: 2025-02-04 02:00:03 -0000 (Tue, 04 Feb 2025) EndedAt: 2025-02-04 02:00:43 -0000 (Tue, 04 Feb 2025) EllapsedTime: 40.0 seconds RetCode: 0 Status: OK PackageFile: qcmetrics_1.44.0.tar.gz PackageFileSize: 4.279 MiB