Package: qmtools Version: 1.10.0 Command: /Library/Frameworks/R.framework/Resources/bin/R CMD INSTALL qmtools StartedAt: 2024-11-08 15:44:58 -0500 (Fri, 08 Nov 2024) EndedAt: 2024-11-08 15:45:07 -0500 (Fri, 08 Nov 2024) EllapsedTime: 9.4 seconds RetCode: 0 Status: OK