Package: qmtools Version: 1.10.0 Command: rm -rf qmtools.buildbin-libdir && mkdir qmtools.buildbin-libdir && F:\biocbuild\bbs-3.20-bioc\R\bin\R.exe CMD INSTALL --build --library=qmtools.buildbin-libdir qmtools_1.10.0.tar.gz StartedAt: 2025-02-04 09:14:33 -0500 (Tue, 04 Feb 2025) EndedAt: 2025-02-04 09:15:07 -0500 (Tue, 04 Feb 2025) EllapsedTime: 34.3 seconds RetCode: 0 Status: OK PackageFile: qmtools_1.10.0.zip PackageFileSize: 847 KiB