Package: qmtools Version: 1.10.0 Command: /home/biocbuild/R/R/bin/R CMD build --keep-empty-dirs --no-resave-data qmtools StartedAt: 2025-02-04 02:00:41 -0000 (Tue, 04 Feb 2025) EndedAt: 2025-02-04 02:01:41 -0000 (Tue, 04 Feb 2025) EllapsedTime: 60.1 seconds RetCode: 0 Status: OK PackageFile: qmtools_1.10.0.tar.gz PackageFileSize: 874.6 KiB