Package: qpcrNorm Version: 1.64.0 Command: rm -rf qpcrNorm.buildbin-libdir && mkdir qpcrNorm.buildbin-libdir && /Users/biocbuild/BBS/utils/build-universal.sh qpcrNorm_1.64.0.tar.gz /Library/Frameworks/R.framework/Resources/bin/R qpcrNorm.buildbin-libdir StartedAt: 2025-02-01 16:19:03 -0500 (Sat, 01 Feb 2025) EndedAt: 2025-02-01 16:19:10 -0500 (Sat, 01 Feb 2025) EllapsedTime: 6.8 seconds RetCode: 0 Status: OK PackageFile: qpcrNorm_1.64.0.tgz PackageFileSize: 597.8 KiB