Package: qpcrNorm Version: 1.64.0 Command: /Library/Frameworks/R.framework/Resources/bin/R CMD check --install=check:qpcrNorm.install-out.txt --library=/Library/Frameworks/R.framework/Resources/library --no-vignettes --timings qpcrNorm_1.64.0.tar.gz StartedAt: 2025-02-01 05:35:31 -0500 (Sat, 01 Feb 2025) EndedAt: 2025-02-01 05:36:11 -0500 (Sat, 01 Feb 2025) EllapsedTime: 40.3 seconds RetCode: 0 Status: OK CheckDir: qpcrNorm.Rcheck Warnings: 0