Package: qpcrNorm Version: 1.64.0 Command: /Library/Frameworks/R.framework/Resources/bin/R CMD INSTALL qpcrNorm StartedAt: 2025-01-30 15:12:39 -0500 (Thu, 30 Jan 2025) EndedAt: 2025-01-30 15:12:45 -0500 (Thu, 30 Jan 2025) EllapsedTime: 5.3 seconds RetCode: 0 Status: OK