Package: qpcrNorm Version: 1.64.0 Command: rm -rf qpcrNorm.buildbin-libdir && mkdir qpcrNorm.buildbin-libdir && /Users/biocbuild/BBS/utils/build-universal.sh qpcrNorm_1.64.0.tar.gz /Library/Frameworks/R.framework/Resources/bin/R qpcrNorm.buildbin-libdir StartedAt: 2025-01-31 13:26:14 -0500 (Fri, 31 Jan 2025) EndedAt: 2025-01-31 13:26:25 -0500 (Fri, 31 Jan 2025) EllapsedTime: 10.5 seconds RetCode: 0 Status: OK PackageFile: qpcrNorm_1.64.0.tgz PackageFileSize: 597.8 KiB