Package: qpcrNorm Version: 1.64.0 Command: /Library/Frameworks/R.framework/Resources/bin/R CMD build --keep-empty-dirs --no-resave-data qpcrNorm StartedAt: 2025-01-30 22:01:54 -0500 (Thu, 30 Jan 2025) EndedAt: 2025-01-30 22:02:18 -0500 (Thu, 30 Jan 2025) EllapsedTime: 23.6 seconds RetCode: 0 Status: OK PackageFile: qpcrNorm_1.64.0.tar.gz PackageFileSize: 549.4 KiB