Package: qpcrNorm Version: 1.64.0 Command: /Library/Frameworks/R.framework/Resources/bin/R CMD check --install=check:qpcrNorm.install-out.txt --library=/Library/Frameworks/R.framework/Resources/library --no-vignettes --timings qpcrNorm_1.64.0.tar.gz StartedAt: 2025-01-31 08:27:29 -0500 (Fri, 31 Jan 2025) EndedAt: 2025-01-31 08:28:46 -0500 (Fri, 31 Jan 2025) EllapsedTime: 76.4 seconds RetCode: 0 Status: OK CheckDir: qpcrNorm.Rcheck Warnings: 0