Package: qpcrNorm Version: 1.64.0 Command: rm -rf qpcrNorm.buildbin-libdir && mkdir qpcrNorm.buildbin-libdir && F:\biocbuild\bbs-3.20-bioc\R\bin\R.exe CMD INSTALL --build --library=qpcrNorm.buildbin-libdir qpcrNorm_1.64.0.tar.gz StartedAt: 2025-01-31 09:20:21 -0500 (Fri, 31 Jan 2025) EndedAt: 2025-01-31 09:20:31 -0500 (Fri, 31 Jan 2025) EllapsedTime: 10.1 seconds RetCode: 0 Status: OK PackageFile: qpcrNorm_1.64.0.zip PackageFileSize: 530.8 KiB