Package: qpcrNorm Version: 1.64.0 Command: F:\biocbuild\bbs-3.20-bioc\R\bin\R.exe CMD INSTALL qpcrNorm StartedAt: 2025-01-30 15:26:40 -0500 (Thu, 30 Jan 2025) EndedAt: 2025-01-30 15:26:52 -0500 (Thu, 30 Jan 2025) EllapsedTime: 11.1 seconds RetCode: 0 Status: OK