Package: qpcrNorm Version: 1.64.0 Command: /home/biocbuild/R/R/bin/R CMD build --keep-empty-dirs --no-resave-data qpcrNorm StartedAt: 2025-01-31 01:55:43 -0000 (Fri, 31 Jan 2025) EndedAt: 2025-01-31 01:55:53 -0000 (Fri, 31 Jan 2025) EllapsedTime: 10.0 seconds RetCode: 0 Status: OK PackageFile: qpcrNorm_1.64.0.tar.gz PackageFileSize: 544.6 KiB