Package: qpcrNorm Version: 1.64.0 Command: /home/biocbuild/R/R/bin/R CMD INSTALL qpcrNorm StartedAt: 2025-01-30 20:10:24 -0000 (Thu, 30 Jan 2025) EndedAt: 2025-01-30 20:10:37 -0000 (Thu, 30 Jan 2025) EllapsedTime: 13.2 seconds RetCode: 0 Status: OK