Package: qpgraph Version: 2.40.0 Command: /Library/Frameworks/R.framework/Resources/bin/R CMD INSTALL qpgraph StartedAt: 2025-02-03 15:51:05 -0500 (Mon, 03 Feb 2025) EndedAt: 2025-02-03 15:52:10 -0500 (Mon, 03 Feb 2025) EllapsedTime: 64.1 seconds RetCode: 0 Status: OK