Package: qpgraph Version: 2.40.0 Command: rm -rf qpgraph.buildbin-libdir && mkdir qpgraph.buildbin-libdir && /Users/biocbuild/BBS/utils/build-universal.sh qpgraph_2.40.0.tar.gz /Library/Frameworks/R.framework/Resources/bin/R qpgraph.buildbin-libdir StartedAt: 2025-02-04 13:52:21 -0500 (Tue, 04 Feb 2025) EndedAt: 2025-02-04 13:55:33 -0500 (Tue, 04 Feb 2025) EllapsedTime: 192.4 seconds RetCode: 0 Status: OK PackageFile: qpgraph_2.40.0.tgz PackageFileSize: 4.098 MiB