Package: qpgraph Version: 2.40.0 Command: /Library/Frameworks/R.framework/Resources/bin/R CMD INSTALL qpgraph StartedAt: 2025-02-03 15:41:14 -0500 (Mon, 03 Feb 2025) EndedAt: 2025-02-03 15:43:10 -0500 (Mon, 03 Feb 2025) EllapsedTime: 115.8 seconds RetCode: 0 Status: OK