Package: qpgraph Version: 2.40.0 Command: /home/biocbuild/R/R/bin/R CMD build --keep-empty-dirs --no-resave-data qpgraph StartedAt: 2025-02-04 02:00:46 -0000 (Tue, 04 Feb 2025) EndedAt: 2025-02-04 02:05:58 -0000 (Tue, 04 Feb 2025) EllapsedTime: 311.3 seconds RetCode: 0 Status: OK PackageFile: qpgraph_2.40.0.tar.gz PackageFileSize: 2.665 MiB