Package: qpgraph Version: 2.40.0 Command: /home/biocbuild/R/R/bin/R CMD check --install=check:qpgraph.install-out.txt --library=/home/biocbuild/R/R/site-library --no-vignettes --timings qpgraph_2.40.0.tar.gz StartedAt: 2025-02-04 10:07:46 -0000 (Tue, 04 Feb 2025) EndedAt: 2025-02-04 10:13:52 -0000 (Tue, 04 Feb 2025) EllapsedTime: 366.5 seconds RetCode: 0 Status: OK CheckDir: qpgraph.Rcheck Warnings: 0