Package: qsmooth Version: 1.22.0 Command: /Library/Frameworks/R.framework/Resources/bin/R CMD build --keep-empty-dirs --no-resave-data qsmooth StartedAt: 2025-02-04 05:59:32 -0500 (Tue, 04 Feb 2025) EndedAt: 2025-02-04 06:00:55 -0500 (Tue, 04 Feb 2025) EllapsedTime: 83.0 seconds RetCode: 0 Status: OK PackageFile: qsmooth_1.22.0.tar.gz PackageFileSize: 1.3 MiB