Package: qsmooth Version: 1.22.0 Command: /Library/Frameworks/R.framework/Resources/bin/R CMD INSTALL qsmooth StartedAt: 2025-02-03 17:24:42 -0500 (Mon, 03 Feb 2025) EndedAt: 2025-02-03 17:25:20 -0500 (Mon, 03 Feb 2025) EllapsedTime: 37.5 seconds RetCode: 0 Status: OK