Package: qsmooth Version: 1.22.0 Command: /home/biocbuild/bbs-3.20-bioc/R/bin/R CMD build --keep-empty-dirs --no-resave-data --md5 qsmooth StartedAt: 2025-02-03 18:50:28 -0500 (Mon, 03 Feb 2025) EndedAt: 2025-02-03 18:51:29 -0500 (Mon, 03 Feb 2025) EllapsedTime: 60.1 seconds RetCode: 0 Status: OK PackageFile: qsmooth_1.22.0.tar.gz PackageFileSize: 1.29 MiB