Package: qsmooth Version: 1.21.0 Command: rm -rf qsmooth.buildbin-libdir && mkdir qsmooth.buildbin-libdir && C:\Users\biocbuild\bbs-3.20-bioc\R\bin\R.exe CMD INSTALL --build --library=qsmooth.buildbin-libdir qsmooth_1.21.0.tar.gz StartedAt: 2024-07-16 06:36:20 -0400 (Tue, 16 Jul 2024) EndedAt: 2024-07-16 06:36:58 -0400 (Tue, 16 Jul 2024) EllapsedTime: 37.8 seconds RetCode: 0 Status: OK PackageFile: qsmooth_1.21.0.zip PackageFileSize: 954.4 KiB