##############################################################################
##############################################################################
###
### Running command:
###
###   chmod a+r qsmooth -R && F:\biocbuild\bbs-3.20-bioc\R\bin\R.exe CMD build --keep-empty-dirs --no-resave-data qsmooth
###
##############################################################################
##############################################################################


* checking for file 'qsmooth/DESCRIPTION' ... OK
* preparing 'qsmooth':
* checking DESCRIPTION meta-information ... OK
* installing the package to build vignettes
* creating vignettes ... OK
* checking for LF line-endings in source and make files and shell scripts
* checking for empty or unneeded directories
* looking to see if a 'data/datalist' file should be added
* building 'qsmooth_1.22.0.tar.gz'