Package: qsmooth
Version: 1.22.0
Command: chmod a+r qsmooth -R && F:\biocbuild\bbs-3.20-bioc\R\bin\R.exe CMD build --keep-empty-dirs --no-resave-data qsmooth
StartedAt: 2025-02-17 21:11:23 -0500 (Mon, 17 Feb 2025)
EndedAt: 2025-02-17 21:13:00 -0500 (Mon, 17 Feb 2025)
EllapsedTime: 97.3 seconds
RetCode: 0
Status: OK
PackageFile: qsmooth_1.22.0.tar.gz
PackageFileSize: 769.8 <A href="http://en.wikipedia.org/wiki/KiB" target="_blank">KiB</A>