Package: quantro Version: 1.40.0 Command: /Library/Frameworks/R.framework/Resources/bin/R CMD build --keep-empty-dirs --no-resave-data quantro StartedAt: 2024-11-08 18:40:41 -0500 (Fri, 08 Nov 2024) EndedAt: 2024-11-08 18:41:23 -0500 (Fri, 08 Nov 2024) EllapsedTime: 42.5 seconds RetCode: 0 Status: OK PackageFile: quantro_1.40.0.tar.gz PackageFileSize: 2.777 MiB