Package: quantro Version: 1.40.0 Command: /Library/Frameworks/R.framework/Resources/bin/R CMD build --keep-empty-dirs --no-resave-data quantro StartedAt: 2025-02-03 21:29:55 -0500 (Mon, 03 Feb 2025) EndedAt: 2025-02-03 21:33:16 -0500 (Mon, 03 Feb 2025) EllapsedTime: 201.3 seconds RetCode: 0 Status: OK PackageFile: quantro_1.40.0.tar.gz PackageFileSize: 2.778 MiB